BEGIN:VCALENDAR
VERSION:2.0
PRODID:-//ChamberMaster//Event Calendar 2.0//EN
METHOD:PUBLISH
X-PUBLISHED-TTL:P3D
REFRESH-INTERVAL:P3D
CALSCALE:GREGORIAN
BEGIN:VEVENT
DTSTART:20260512T160000Z
DTEND:20260512T170000Z
X-MICROSOFT-CDO-ALLDAYEVENT:FALSE
SUMMARY:LUNCH & LEARN x Small Business Series 2 - Financing the Business
DESCRIPTION:Small Business Series\n\n"Financing the Business"\n\nIntroducing the Lunch & Learn Small Business Series!\n\n\n\n \n\n\n\nAs part of our four-part Lunch & Learn Small Business Series designed to help local business owners grow\, plan\, and succeed this session will help with how to Finance the Business. Each program will be led by Ginnie Faller\, Business Advisor with the Southeast Indiana Small Business Development Center / Indiana Small Business Development Center\, and Brad Melhon\, AVP Business Banker III with First Financial Bank. \n\n\n\n \n\n\n\nNext up:\n\n\n\nSession 2: Financing the Business\n\n\n\nMay 12 | 12:00   1:00 PM\n\n\n\nExplore funding options\, lending\, and financial strategies to support growth.\n\n\n\n \n\n\n\nUpcoming Sessions\n\nSession 3: Succession Planning\n\n\n\nAugust 11 | 12:00   1:00 PM\n\n\n\nLearn how to plan for the future and ensure a smooth transition for your business.\n\n\n\n \n\n\n\nSession 4: General Business Q&A\n\n\n\nOctober 13 | 12:00   1:00 PM\n\n\n\nBring your questions and get expert guidance from Ginnie Faller and Brad Melhon.\n\n\n\n \n\n\n\nWe started strong with Session 1 and are building momentum throughout the year join one session or attend all four!\n\n \n\n  We hope to have you join us on Tuesday\, May 12th at 12 PM in the GDC Chamber of Commerce conference room.\n\n \n\nLunch is provided! \n\nRSVP today - there is limited seating for 20 attendees.\n\n\n\nYou DO NOT have to be a Chamber Member to attend - this event is open to the general public!\n\n\n\nMembers: FREE | Non-Member: $10\n\n\n\n***Due to limited seating & a catered lunch\, there are NO CANCELLATIONS accepted. If you are unable to attend\, please notify the GDC Chamber of Commerce 24+ hours prior to the event\, or notify us of an attendee replacing your spot. NO REFUNDS.***
X-ALT-DESC;FMTTYPE=text/html:<div style="text-align: center\;"><font color="#b45108"><span style="font-size: 26px\; white-space-collapse: preserve\;"><b>Small Business Series</b></span></font><br />\n<span style="color:04244d\;"><span style="font-size: 26px\; white-space-collapse: preserve\;"><b>&quot\;Financing the Business&quot\;</b></span></span>\n<div data-block="true" data-editor="9tb6k" data-offset-key="fcb24-0-0" style="font-family: &quot\;Optimistic 95&quot\;\, system-ui\, sans-serif\; color: rgb(28\, 43\, 51)\; font-size: 14px\; white-space-collapse: preserve\;">\n<div class="_1mf _1mj" data-offset-key="fcb24-0-0" style="position: relative\; direction: ltr\; font-family: inherit\;"><strong><span data-offset-key="fcb24-0-0">Introducing the Lunch &amp\; Learn Small Business Series!</span></strong></div>\n</div>\n\n<div data-block="true" data-editor="9tb6k" data-offset-key="f5l5i-0-0" style="font-family: &quot\;Optimistic 95&quot\;\, system-ui\, sans-serif\; color: rgb(28\, 43\, 51)\; font-size: 14px\; white-space-collapse: preserve\;">\n<div class="_1mf _1mj" data-offset-key="f5l5i-0-0" style="position: relative\; direction: ltr\; font-family: inherit\;">&nbsp\;</div>\n</div>\n\n<div data-block="true" data-editor="9tb6k" data-offset-key="f1fpo-0-0" style="font-family: &quot\;Optimistic 95&quot\;\, system-ui\, sans-serif\; color: rgb(28\, 43\, 51)\; font-size: 14px\; white-space-collapse: preserve\;">\n<div class="_1mf _1mj" data-offset-key="f1fpo-0-0" style="position: relative\; direction: ltr\; font-family: inherit\;"><strong><span data-offset-key="f1fpo-0-0">As part of our four-part Lunch &amp\; Learn Small Business Series designed to help local business owners grow\, plan\, and succeed&mdash\;this session will help with how to Finance the Business. Each program will be led by Ginnie Faller\, Business Advisor with the </span><span class="_247o" data-offset-key="f1fpo-1-0" spellcheck="false" style="background-color: rgba(24\, 119\, 242\, 0.2)\;"><span data-offset-key="f1fpo-1-0">Southeast Indiana Small Business Development Center</span></span><span data-offset-key="f1fpo-2-0"> / Indiana Small Business Development Center\, and Brad Melhon\, AVP Business Banker III with </span><span class="_247o" data-offset-key="f1fpo-3-0" spellcheck="false" style="background-color: rgba(24\, 119\, 242\, 0.2)\;"><span data-offset-key="f1fpo-3-0">First Financial Bank</span></span><span data-offset-key="f1fpo-4-0">. </span></strong></div>\n</div>\n\n<div data-block="true" data-editor="9tb6k" data-offset-key="751gr-0-0" style="font-family: &quot\;Optimistic 95&quot\;\, system-ui\, sans-serif\; color: rgb(28\, 43\, 51)\; font-size: 14px\; white-space-collapse: preserve\;">\n<div class="_1mf _1mj" data-offset-key="751gr-0-0" style="position: relative\; direction: ltr\; font-family: inherit\;">&nbsp\;</div>\n</div>\n\n<div data-block="true" data-editor="9tb6k" data-offset-key="eefcd-0-0" style="font-family: &quot\;Optimistic 95&quot\;\, system-ui\, sans-serif\; color: rgb(28\, 43\, 51)\; font-size: 14px\; white-space-collapse: preserve\;">\n<div class="_1mf _1mj" data-offset-key="eefcd-0-0" style="position: relative\; direction: ltr\; font-family: inherit\;"><strong><span data-offset-key="eefcd-0-0">Next up:</span></strong></div>\n</div>\n\n<div data-block="true" data-editor="9tb6k" data-offset-key="4kmmo-0-0" style="font-family: &quot\;Optimistic 95&quot\;\, system-ui\, sans-serif\; color: rgb(28\, 43\, 51)\; font-size: 14px\; white-space-collapse: preserve\;">\n<div class="_1mf _1mj" data-offset-key="4kmmo-0-0" style="position: relative\; direction: ltr\; font-family: inherit\;"><strong><span data-offset-key="4kmmo-0-0">Session 2: Financing the Business</span></strong></div>\n</div>\n\n<div data-block="true" data-editor="9tb6k" data-offset-key="64qif-0-0" style="font-family: &quot\;Optimistic 95&quot\;\, system-ui\, sans-serif\; color: rgb(28\, 43\, 51)\; font-size: 14px\; white-space-collapse: preserve\;">\n<div class="_1mf _1mj" data-offset-key="64qif-0-0" style="position: relative\; direction: ltr\; font-family: inherit\;"><strong><span data-offset-key="64qif-0-0">May 12 | 12:00 &ndash\; 1:00 PM</span></strong></div>\n</div>\n\n<div data-block="true" data-editor="9tb6k" data-offset-key="erj78-0-0" style="font-family: &quot\;Optimistic 95&quot\;\, system-ui\, sans-serif\; color: rgb(28\, 43\, 51)\; font-size: 14px\; white-space-collapse: preserve\;">\n<div class="_1mf _1mj" data-offset-key="erj78-0-0" style="position: relative\; direction: ltr\; font-family: inherit\;"><strong><span data-offset-key="erj78-0-0">Explore funding options\, lending\, and financial strategies to support growth.</span></strong></div>\n</div>\n\n<div data-block="true" data-editor="9tb6k" data-offset-key="7r102-0-0" style="font-family: &quot\;Optimistic 95&quot\;\, system-ui\, sans-serif\; color: rgb(28\, 43\, 51)\; font-size: 14px\; white-space-collapse: preserve\;">\n<div class="_1mf _1mj" data-offset-key="7r102-0-0" style="position: relative\; direction: ltr\; font-family: inherit\;">&nbsp\;</div>\n</div>\n\n<div data-block="true" data-editor="9tb6k" data-offset-key="41ur6-0-0" style="font-family: &quot\;Optimistic 95&quot\;\, system-ui\, sans-serif\; color: rgb(28\, 43\, 51)\; font-size: 14px\; white-space-collapse: preserve\;">\n<div class="_1mf _1mj" data-offset-key="41ur6-0-0" style="position: relative\; direction: ltr\; font-family: inherit\;"><strong><span data-offset-key="41ur6-0-0">Upcoming Sessions<br />\nSession 3: Succession Planning</span></strong></div>\n</div>\n\n<div data-block="true" data-editor="9tb6k" data-offset-key="375sl-0-0" style="font-family: &quot\;Optimistic 95&quot\;\, system-ui\, sans-serif\; color: rgb(28\, 43\, 51)\; font-size: 14px\; white-space-collapse: preserve\;">\n<div class="_1mf _1mj" data-offset-key="375sl-0-0" style="position: relative\; direction: ltr\; font-family: inherit\;"><strong><span data-offset-key="375sl-0-0">August 11 | 12:00 &ndash\; 1:00 PM</span></strong></div>\n</div>\n\n<div data-block="true" data-editor="9tb6k" data-offset-key="4v93f-0-0" style="font-family: &quot\;Optimistic 95&quot\;\, system-ui\, sans-serif\; color: rgb(28\, 43\, 51)\; font-size: 14px\; white-space-collapse: preserve\;">\n<div class="_1mf _1mj" data-offset-key="4v93f-0-0" style="position: relative\; direction: ltr\; font-family: inherit\;"><strong><span data-offset-key="4v93f-0-0">Learn how to plan for the future and ensure a smooth transition for your business.</span></strong></div>\n</div>\n\n<div data-block="true" data-editor="9tb6k" data-offset-key="16ntr-0-0" style="font-family: &quot\;Optimistic 95&quot\;\, system-ui\, sans-serif\; color: rgb(28\, 43\, 51)\; font-size: 14px\; white-space-collapse: preserve\;">\n<div class="_1mf _1mj" data-offset-key="16ntr-0-0" style="position: relative\; direction: ltr\; font-family: inherit\;">&nbsp\;</div>\n</div>\n\n<div data-block="true" data-editor="9tb6k" data-offset-key="9c9q3-0-0" style="font-family: &quot\;Optimistic 95&quot\;\, system-ui\, sans-serif\; color: rgb(28\, 43\, 51)\; font-size: 14px\; white-space-collapse: preserve\;">\n<div class="_1mf _1mj" data-offset-key="9c9q3-0-0" style="position: relative\; direction: ltr\; font-family: inherit\;"><strong><span data-offset-key="9c9q3-0-0">Session 4: General Business Q&amp\;A</span></strong></div>\n</div>\n\n<div data-block="true" data-editor="9tb6k" data-offset-key="9gana-0-0" style="font-family: &quot\;Optimistic 95&quot\;\, system-ui\, sans-serif\; color: rgb(28\, 43\, 51)\; font-size: 14px\; white-space-collapse: preserve\;">\n<div class="_1mf _1mj" data-offset-key="9gana-0-0" style="position: relative\; direction: ltr\; font-family: inherit\;"><strong><span data-offset-key="9gana-0-0">October 13 | 12:00 &ndash\; 1:00 PM</span></strong></div>\n</div>\n\n<div data-block="true" data-editor="9tb6k" data-offset-key="pfpe-0-0" style="font-family: &quot\;Optimistic 95&quot\;\, system-ui\, sans-serif\; color: rgb(28\, 43\, 51)\; font-size: 14px\; white-space-collapse: preserve\;">\n<div class="_1mf _1mj" data-offset-key="pfpe-0-0" style="position: relative\; direction: ltr\; font-family: inherit\;"><strong><span data-offset-key="pfpe-0-0">Bring your questions and get expert guidance from Ginnie Faller and Brad Melhon.</span></strong></div>\n</div>\n\n<div data-block="true" data-editor="9tb6k" data-offset-key="69ccc-0-0" style="font-family: &quot\;Optimistic 95&quot\;\, system-ui\, sans-serif\; color: rgb(28\, 43\, 51)\; font-size: 14px\; white-space-collapse: preserve\;">\n<div class="_1mf _1mj" data-offset-key="69ccc-0-0" style="position: relative\; direction: ltr\; font-family: inherit\;">&nbsp\;</div>\n</div>\n\n<div data-block="true" data-editor="9tb6k" data-offset-key="clg3t-0-0" style="font-family: &quot\;Optimistic 95&quot\;\, system-ui\, sans-serif\; color: rgb(28\, 43\, 51)\; font-size: 14px\; white-space-collapse: preserve\;">\n<div class="_1mf _1mj" data-offset-key="clg3t-0-0" style="position: relative\; direction: ltr\; font-family: inherit\;"><strong><span data-offset-key="clg3t-0-0">We started strong with Session 1 and are building momentum throughout the year&mdash\;join one session or attend all four!</span></strong><br />\n&nbsp\;</div>\n</div>\n<strong> <span style="background-color:#A9A9A9\;"> </span><span style="font-size:16px\;"><span style="white-space: pre-wrap\;"><span style="background-color:#FFFFFF\;">We hope to have you join us on Tuesday\, May 12th at 12 PM in the GDC Chamber of Commerce conference room.</span></span></span></strong></div>\n\n<div style="text-align: center\;">&nbsp\;</div>\n\n<div style="text-align: center\;"><span style="font-size:14px\;"><strong><span style="text-align: center\; white-space: pre-wrap\; background-color: rgb(255\, 255\, 255)\;"><span style="font-size:16px\;">Lunch is provided! </span><br />\n<span style="font-size:16px\;">RSVP today - there is limited seating for 20 attendees.</span><br />\n<br />\nYou <u>DO NOT</u> have to be a Chamber Member to attend - this event is open to the general public!</span></strong><br style="color: rgb(51\, 51\, 51)\; font-family: arial\; font-size: 14px\; text-align: center\; white-space: pre-wrap\; background-color: rgb(255\, 255\, 255)\;" />\n<br style="color: rgb(51\, 51\, 51)\; font-family: arial\; font-size: 14px\; text-align: center\; white-space: pre-wrap\; background-color: rgb(255\, 255\, 255)\;" />\n<span style="font-size:18px\;"><span style="color:#518F96\;"><span style="text-align: center\; white-space: pre-wrap\; background-color: rgb(255\, 255\, 255)\;"><strong>Members:</strong></span></span><span style="color: rgb(51\, 51\, 51)\; text-align: center\; white-space: pre-wrap\; background-color: rgb(255\, 255\, 255)\;"> FREE | </span><span style="color:#518F96\;"><span style="text-align: center\; white-space: pre-wrap\; background-color: rgb(255\, 255\, 255)\;"><strong>Non-Member:</strong></span></span><span style="color: rgb(51\, 51\, 51)\; text-align: center\; white-space: pre-wrap\; background-color: rgb(255\, 255\, 255)\;"><strong> </strong>$10</span></span></span><br />\n<br />\n<span style="color: rgb(255\, 0\, 0)\; font-family: tahoma\; font-size: 12px\; text-align: center\; white-space: pre-wrap\; background-color: rgb(255\, 255\, 255)\;">***Due to limited seating &amp\; a catered lunch\, there are NO CANCELLATIONS accepted. If you are unable to attend\, please notify the GDC Chamber of Commerce 24+ hours prior to the event\, or notify us of an attendee replacing your spot. NO REFUNDS.***</span></div>\n
LOCATION:GDC Chamber of Commerce - Conference Room (located inside City Hall) 314 W. Washington Street Greensburg\, IN 47240
UID:e.1535.4344
SEQUENCE:3
DTSTAMP:20260420T174651Z
URL:http://business.greensburgchamber.com/events/details/lunch-learn-x-small-business-series-2-financing-the-business-4344
END:VEVENT

END:VCALENDAR
