BEGIN:VCALENDAR
VERSION:2.0
PRODID:-//ChamberMaster//Event Calendar 2.0//EN
METHOD:PUBLISH
X-PUBLISHED-TTL:P3D
REFRESH-INTERVAL:P3D
CALSCALE:GREGORIAN
BEGIN:VEVENT
DTSTART:20151008T220000Z
DTEND:20151009T010000Z
X-MICROSOFT-CDO-ALLDAYEVENT:FALSE
SUMMARY:Greensburg Going Green Solar & Renewable Energy Seminar
DESCRIPTION:Come learn about Renewable Energy\, how it works\, and how to start! Special guest speakers from S.I.R.E.N\, Southern Indiana Renewable Energy Network\, Lohrum Electrical\, USDA Rural Development\, Decatur County REMC\, and Duke Energy.
X-ALT-DESC;FMTTYPE=text/html:Come learn about Renewable Energy\, how it works\, and how to start! Special guest speakers from S.I.R.E.N\, Southern Indiana Renewable Energy Network\, Lohrum Electrical\, USDA Rural Development\, Decatur County REMC\, and Duke Energy.
LOCATION:Hampton Inn and Suites Greensburg\, IN 47240
UID:e.1535.1164
SEQUENCE:3
DTSTAMP:20260421T100626Z
URL:http://business.greensburgchamber.com/events/details/greensburg-going-green-solar-renewable-energy-seminar-10-08-2015-1164
END:VEVENT

END:VCALENDAR
