BEGIN:VCALENDAR
VERSION:2.0
PRODID:-//ChamberMaster//Event Calendar 2.0//EN
METHOD:PUBLISH
X-PUBLISHED-TTL:P3D
REFRESH-INTERVAL:P3D
CALSCALE:GREGORIAN
BEGIN:VEVENT
DTSTART:20260506T220000Z
DTEND:20260507T000000Z
X-MICROSOFT-CDO-ALLDAYEVENT:FALSE
SUMMARY:Arts & Culture Showcase
DESCRIPTION:Join us in celebrating the culmination of a year-long initiative focused on promoting and supporting creativity across the Accelerate Rural Indiana (ARI) region!\n\n\n\nThis open-house-style event will highlight projects from the past year and bring together local creatives\, community leaders\, and art enthusiasts to connect\, reflect\, and celebrate a growing partnership full of promise for the future. Light refreshments will be provided\, and all ages are welcome.\n\n\n\nThe ARI region is comprised of Batesville\, Decatur County\, Shelby County\, and Rush County.
X-ALT-DESC;FMTTYPE=text/html:Join us in celebrating the culmination of a year-long initiative focused on promoting and supporting creativity across the Accelerate Rural Indiana (ARI) region!<br />\n<br />\nThis open-house-style event will highlight projects from the past year and bring together local creatives\, community leaders\, and art enthusiasts to connect\, reflect\, and celebrate a growing partnership full of promise for the future. Light refreshments will be provided\, and all ages are welcome.<br />\n<br />\nThe ARI region is comprised of Batesville\, Decatur County\, Shelby County\, and Rush County.
LOCATION:The Gathering Hall at Highpoint Events 3321 Old US Highway 421 Greensburg\, IN 47240
UID:e.1535.4357
SEQUENCE:3
DTSTAMP:20260423T081957Z
URL:http://business.greensburgchamber.com/events/details/arts-culture-showcase-4357
END:VEVENT

END:VCALENDAR
